BEGIN:VCALENDAR
VERSION:2.0
PRODID:-//Roots of Change - ECPv6.15.20//NONSGML v1.0//EN
CALSCALE:GREGORIAN
METHOD:PUBLISH
X-ORIGINAL-URL:https://www.rootsofchange.org
X-WR-CALDESC:Events for Roots of Change
REFRESH-INTERVAL;VALUE=DURATION:PT1H
X-Robots-Tag:noindex
X-PUBLISHED-TTL:PT1H
BEGIN:VTIMEZONE
TZID:America/Los_Angeles
BEGIN:DAYLIGHT
TZOFFSETFROM:-0800
TZOFFSETTO:-0700
TZNAME:PDT
DTSTART:20230312T100000
END:DAYLIGHT
BEGIN:STANDARD
TZOFFSETFROM:-0700
TZOFFSETTO:-0800
TZNAME:PST
DTSTART:20231105T090000
END:STANDARD
BEGIN:DAYLIGHT
TZOFFSETFROM:-0800
TZOFFSETTO:-0700
TZNAME:PDT
DTSTART:20240310T100000
END:DAYLIGHT
BEGIN:STANDARD
TZOFFSETFROM:-0700
TZOFFSETTO:-0800
TZNAME:PST
DTSTART:20241103T090000
END:STANDARD
BEGIN:DAYLIGHT
TZOFFSETFROM:-0800
TZOFFSETTO:-0700
TZNAME:PDT
DTSTART:20250309T100000
END:DAYLIGHT
BEGIN:STANDARD
TZOFFSETFROM:-0700
TZOFFSETTO:-0800
TZNAME:PST
DTSTART:20251102T090000
END:STANDARD
END:VTIMEZONE
BEGIN:VEVENT
DTSTART;TZID=America/Los_Angeles:20240311T170000
DTEND;TZID=America/Los_Angeles:20240311T200000
DTSTAMP:20260422T040650
CREATED:20240226T224130Z
LAST-MODIFIED:20240226T224130Z
UID:8806-1710176400-1710187200@www.rootsofchange.org
SUMMARY:Dinner - Celebrating Local Regenerative Meat
DESCRIPTION:Join us for a blind ribeye steak tasting and dinner featuring a delicious grassfed burger\, three organic salads\, fries and local wines.
URL:https://www.rootsofchange.org/event/dinner-celebrating-local-regenerative-meat/
LOCATION:TOAST\, 5800 Nave Drive\, Novato\, CA\, 94949\, United States
ATTACH;FMTTYPE=image/png:https://www.rootsofchange.org/wp-content/uploads/Screenshot-2024-02-26-at-2.37.46-PM.png
END:VEVENT
END:VCALENDAR