BEGIN:VCALENDAR
VERSION:2.0
PRODID:-//Roots of Change - ECPv6.15.20//NONSGML v1.0//EN
CALSCALE:GREGORIAN
METHOD:PUBLISH
X-WR-CALNAME:Roots of Change
X-ORIGINAL-URL:https://www.rootsofchange.org
X-WR-CALDESC:Events for Roots of Change
REFRESH-INTERVAL;VALUE=DURATION:PT1H
X-Robots-Tag:noindex
X-PUBLISHED-TTL:PT1H
BEGIN:VTIMEZONE
TZID:America/Los_Angeles
BEGIN:DAYLIGHT
TZOFFSETFROM:-0800
TZOFFSETTO:-0700
TZNAME:PDT
DTSTART:20100314T100000
END:DAYLIGHT
BEGIN:STANDARD
TZOFFSETFROM:-0700
TZOFFSETTO:-0800
TZNAME:PST
DTSTART:20101107T090000
END:STANDARD
BEGIN:DAYLIGHT
TZOFFSETFROM:-0800
TZOFFSETTO:-0700
TZNAME:PDT
DTSTART:20110313T100000
END:DAYLIGHT
BEGIN:STANDARD
TZOFFSETFROM:-0700
TZOFFSETTO:-0800
TZNAME:PST
DTSTART:20111106T090000
END:STANDARD
BEGIN:DAYLIGHT
TZOFFSETFROM:-0800
TZOFFSETTO:-0700
TZNAME:PDT
DTSTART:20120311T100000
END:DAYLIGHT
BEGIN:STANDARD
TZOFFSETFROM:-0700
TZOFFSETTO:-0800
TZNAME:PST
DTSTART:20121104T090000
END:STANDARD
END:VTIMEZONE
BEGIN:VEVENT
DTSTART;TZID=America/Los_Angeles:20110218T090000
DTEND;TZID=America/Los_Angeles:20110220T170000
DTSTAMP:20260423T135251
CREATED:20141121T020518Z
LAST-MODIFIED:20141121T020518Z
UID:1536-1298019600-1298221200@www.rootsofchange.org
SUMMARY:CCOF Annual Convention
DESCRIPTION:The Convention begins with the CCOF Annual Meeting and welcoming reception featuring organic products from throughout the Ventura/Oxnard area. This year’s Convention agenda focuses on bringing your products to market and expanding the organic marketplace. Gain valuable knowledge that you can apply immediately on your farm or operation and in your marketing plan. Enjoy networking with other organic producers\, processors\, handlers\, and supporting industries.
URL:https://www.rootsofchange.org/event/ccof-annual-convention/
LOCATION:Ventura\, CA\, United States
END:VEVENT
END:VCALENDAR